BEGIN:VCALENDAR
VERSION:2.0
X-WR-CALNAME:www.indybay.org
PRODID:-//indybay/ical// v1.0//EN
BEGIN:VEVENT
UID:Indybay-18651831
SEQUENCE:18721818
CREATED:20100625T130100Z
DESCRIPTION:Labor Jeopardy Contest \nWith Edward Hernandez Professor CSU-CFA 
 Stanislaus.\nWho founded the American Federation of Labor? What year was 
 the National Labor Relations Act passed? Come join us in the second 
 LaborFest Jeopardy contest. Using a jeopardy format, labor organizations 
 from throughout the Bay Area will compete for prizes and pride while 
 answering questions covering all areas of labor history and practice. Come 
 cheer on your favorite team and learn something new in this fun and 
 friendly contest. \nStanislaus playwright and CSUS-CFA Professor Edward 
 Hernandez will be the master of ceremonies. \nSee 
 also:\nhttp://www.laborfest.net/2010/2010schedule.htm\n 
 https://www.indybay.org/newsitems/2010/06/25/18651831.php
SUMMARY:Laborfest: Labor Jeopardy Contest
LOCATION:Plumbers’ Hall - 1621 Market St. at Franklin St., San Francisco. Near Van 
 Ness Metro Station and near Civic Center Metro/BART station.\n
URL:https://www.indybay.org/newsitems/2010/06/25/18651831.php
DTSTART:20100727T010000Z
DTEND:20100727T030000Z
END:VEVENT
END:VCALENDAR
