BEGIN:VCALENDAR
VERSION:2.0
X-WR-CALNAME:www.indybay.org
PRODID:-//indybay/ical// v1.0//EN
BEGIN:VEVENT
UID:Indybay-18651620
SEQUENCE:18721522
CREATED:20100623T143700Z
DESCRIPTION:Down with Stereotypes! Conversations with Waitresses and Native 
 Americans\nAlison Owings, author of Hey, Waitress! The USA from the Other 
 Side of the Tray and the forthcoming Indian Voices / Listening to Native 
 Americans, will read excerpts from both works. This evening will feature 
 the tale of Beulah Compton, a waitress union leader in Seattle in the 
 1940's and 1950's, and Tom Phillips (Kiowa), a powwow emcee who also works 
 as a drug counselor at the Friendship House American Indian Healing Center 
 -- just blocks away from Modern Times. \nLaborFest discounted copies of 
 Hey, Waitress! will be available for purchase.\nSee 
 also:\nhttp://www.alisonowings.com 
 \nhttp://www.friendshiphousesf.org/\nhttp://www.mtbs.com/\nhttp://www.laborfest.net/2010/2010schedule.htm\n 
 https://www.indybay.org/newsitems/2010/06/23/18651620.php
SUMMARY:Laborfest: Ending Stereotypes on Waitresses and Native Americans
LOCATION:Modern Times Bookstore - 888 Valencia St near 20th, San Francisco, near 
 24th St BART\n
URL:https://www.indybay.org/newsitems/2010/06/23/18651620.php
DTSTART:20100723T020000Z
DTEND:20100723T040000Z
END:VEVENT
END:VCALENDAR
