BEGIN:VCALENDAR
VERSION:2.0
X-WR-CALNAME:www.indybay.org
PRODID:-//indybay/ical// v1.0//EN
BEGIN:VEVENT
UID:Indybay-18651515
SEQUENCE:18721377
CREATED:20100622T132800Z
DESCRIPTION:San Francisco General Strike Walk\nJoin a walk with historian Luis Prisco, 
 ILWU Local 10 longshoreman Jack Heyman and others.  This walk and history 
 talk will look at the causes of the 1934 General Strike that made San 
 Francisco a union town and why it was successful. How was the strike 
 organized and why are the issues in that strike still relevant to working 
 people today? Also you will walk by the key historical sites in this 
 important US labor struggle that along with the 1934 general strikes of 
 Minneapolis and Toledo made possible the 1935 Social Security Act and 
 Unemployment Insurance Act. Bring your lunch with you.\nPlease sign-up for 
 this tour by calling Louis Prisco at 415-841-1254, or e-mail: 
 penguinflow@hotmail.com\nSee 
 also:\nhttp://www.laborfest.net/2010/2010schedule.htm\n 
 https://www.indybay.org/newsitems/2010/06/22/18651515.php
SUMMARY:Laborfest: SF General Strike Walk
LOCATION:Meet at Harry Bridges Plaza, Front of Ferry Building, San Francisco-on 
 Embarcadero at Market Street.  Embarcadero BART/Muni Metro station.\n
URL:https://www.indybay.org/newsitems/2010/06/22/18651515.php
DTSTART:20100717T173000Z
DTEND:20100717T203000Z
END:VEVENT
END:VCALENDAR
