BEGIN:VCALENDAR
VERSION:2.0
X-WR-CALNAME:www.indybay.org
PRODID:-//indybay/ical// v1.0//EN
BEGIN:VEVENT
UID:Indybay-18650938
SEQUENCE:18720520
CREATED:20100617T133400Z
DESCRIPTION:Alto Arizona: Rank and File Voices Walking in Solidarity With Immigrant 
 Workers \nHosted by James Tracy, poet, writer, housing activist.  On May 
 29, 2010, hundreds of rank-and file workers caravanned from San Francisco 
 to Phoenix, Arizona to join protests against the State’s attacks on the 
 human rights of immigrants, evoking comparisons to the 1960’s Civil 
 Rights Movement. Come hear a report back from Arizona, updates on future 
 actions and share your ideas for organizing against scapegoating of 
 immigrants. Reports from: Steve Woo (Asian Pacific Islander Delegation) 
 Dorothy Royal (Community Housing Partnership/SEIU 10210) Ramses 
 Teon-Nichols (SEIU 1021) Jah'Mocca Moet-Iman Samone  (Transgender Intersex 
 Justice Project) and Alicia Soon (Young Workers United)\nSee 
 also\nhttp://jamestracywords.com/\nhttp://www.youngworkersunited.org/\nModern 
 Times 
 Bookstore\nhttp://www.mtbs.com/\nand\nhttp://www.laborfest.net/2010/2010schedule.htm\n 
 https://www.indybay.org/newsitems/2010/06/17/18650938.php
SUMMARY:Laborfest: Labor's Defense of Undocumented Immigrants
LOCATION:Modern Times Bookstore - 888 Valencia St near 20th, San Francisco, near 
 24th St BART station\n
URL:https://www.indybay.org/newsitems/2010/06/17/18650938.php
DTSTART:20100704T020000Z
DTEND:20100704T040000Z
END:VEVENT
END:VCALENDAR
