BEGIN:VCALENDAR
VERSION:2.0
X-WR-CALNAME:www.indybay.org
PRODID:-//indybay/ical// v1.0//EN
BEGIN:VEVENT
UID:Indybay-18650861
SEQUENCE:18720429
CREATED:20100616T163400Z
DESCRIPTION:A Discussion With Andy Stepanian of the SHAC 7 \n\n\nActivist & former SHAC 
 7 prisoner Andy Stepanian tells his personal story of standing up to one of 
 the worlds largest contract animal testing labs, being charged with 
 “terrorism” for his efforts, and serving 3 years in a federal prison. 
 To learn more about the SHAC 7 please visit http://SHAC7.com/ \n\nWhat if 
 you closed your eyes & woke up a prisoner? What if you were estranged from 
 your family and labeled a convict? What if you lived your entire life in a 
 cage? What if you were convicted and imprisoned for trying to set beings 
 free from their cages? Our perspective is often one of privilege and it can 
 sometimes be hard for us to see the world through an alternate lens. Andy 
 Stepanian speaks about his personal experiences and observations of others 
 while incarcerated, a collection of experiences that led him to determine 
 that despite his shackled circumstances he had never been as free as he was 
 during that time.\n\nMonday, June 28th at 7pm \nStation 40\n3030B 16th 
 Street (at Mission)\nSan Francisco, CA\n\nTo learn more about Andy's story 
 you can watch his most recent interview on Democracy Now! at this link - 
 http://www.democracynow.org/2009/6/25/exclusive_animal_rights_activist_jailed_at\n\nPlease 
 support Kevin Kjonas, Andy's SHAC 7 codefendant who is still incarcerated 
 in Minnesota. Write him a letter or send him a book today 
 http://shac7.com/\n\nhttp://sparrowmedia.net/events/perspectives/\n 
 https://www.indybay.org/newsitems/2010/06/16/18650861.php
SUMMARY:Perspectives On Liberation - A Discussion With Former Political Prisoner Andy Stepanian
LOCATION:Station 40	\n3030B 16th Street (at Mission)\nSan Francisco, CA 94103
URL:https://www.indybay.org/newsitems/2010/06/16/18650861.php
DTSTART:20100629T020000Z
DTEND:20100629T043000Z
END:VEVENT
END:VCALENDAR
