BEGIN:VCALENDAR
VERSION:2.0
X-WR-CALNAME:www.indybay.org
PRODID:-//indybay/ical// v1.0//EN
BEGIN:VEVENT
UID:Indybay-18650404
SEQUENCE:18719799
CREATED:20100610T233100Z
DESCRIPTION:\nwww.SFPrideLive.com \nwill show the\nSan Francisco\nPRIDE \n parade 
 live\n and\nun-censored\non Sunday,\n 27 June 2010\n\n\nAn hourlong 
 pre-show \nbegins at 9:30 AM.\n\n...........\n[ info from\nwww.ebar.com  
 ]\n....................\n\n[ FWD to \nwww.Indybay.com\nby 
 SUN:]\n\nhttp://groups.yahoo.com/group/SaveFreedom\nhttp://groups.yahoo.com/group/nakity/ 
  \nSUN, P.O.Box 426937-SUN, SF, CA 94142-6937\n..................\n 
 https://www.indybay.org/newsitems/2010/06/10/18650404.php
SUMMARY:SF Pride Parade -- video, online, live, un-censored
LOCATION:www.SFPrideLive.com \n
URL:https://www.indybay.org/newsitems/2010/06/10/18650404.php
DTSTART:20100627T163000Z
DTEND:20100627T193000Z
END:VEVENT
END:VCALENDAR
