BEGIN:VCALENDAR
VERSION:2.0
X-WR-CALNAME:www.indybay.org
PRODID:-//indybay/ical// v1.0//EN
BEGIN:VEVENT
UID:Indybay-18650320
SEQUENCE:18719692
CREATED:20100610T033300Z
DESCRIPTION:PLANT FAMILIES OF CALIFORNIA: A MEDICINAL PERSPECTIVE\n\nLearning to 
 recognize plants by their family characteristics is a great way to begin 
 making sense of the “wall of green” you might be accustomed to seeing 
 on your hikes in the outdoors. Like members of your own immediate family, 
 closely related plants generally share similar physical features. In 
 addition, these plants often share similar chemical traits and thus related 
 medicinal attributes as well. For these reasons it is a worthwhile endeavor 
 to devote time to learning about such plant groupings. The first part of 
 the day will consist of a lecture/slideshow highlighting the basic 
 taxonomic and chemical characteristics of selected medicinal plant 
 families. Later in the day we will put our identification skills to the 
 test during afternoon field outings to nearby parks and gardens. 
 Edible/medicinal uses, harvesting ethics, at-risk plants, preparation 
 methods, and botanical safety issues are a few of the topics which will be 
 addressed on our walks together. Hands-on activities will include: 
 microscope sessions, sensory learning: smelling/tasting, as well as 
 interactive tips on how to successfully identify plants using regional 
 plant floras.\n\n\nDates/Time: (10am-5pm)\n\nSession I: July 17\nSession 
 II: July 24\nSession III: August 1\n\nInstructor: Tellur 
 Fenner\n\nLocation:\nBlue Wind Botanical Medicine Clinic\n823 32nd Street 
 Apt. B\nOakland,CA\n\nMake sure to bring: Water, lunch, notebook, and a 
 camera.\nOptional: Hand lens, The Jepson Manual by 
 Hickman\n\nRegistration:\nPhone: 510-428-1810\nEmail: 
 bluewindbmc@gmail.com\nWebsite: www.bluewindbmc.com \n 
 https://www.indybay.org/newsitems/2010/06/09/18650320.php
SUMMARY:PLANT FAMILIES OF CALIFORNIA: A MEDICINAL PERSPECTIVE
LOCATION:Blue Wind Botanical Medicine Clinic\n823 32nd Street Apt. B\nOakland,CA
URL:https://www.indybay.org/newsitems/2010/06/09/18650320.php
DTSTART:20100724T170000Z
DTEND:20100725T000000Z
END:VEVENT
END:VCALENDAR
