BEGIN:VCALENDAR
VERSION:2.0
X-WR-CALNAME:www.indybay.org
PRODID:-//indybay/ical// v1.0//EN
BEGIN:VEVENT
UID:Indybay-18649861
SEQUENCE:18719093
CREATED:20100604T230200Z
DESCRIPTION:The San Francisco Mime Troupe opens its 51st season with POSIBILIDAD, or 
 Death of the Worker. A small U.S. Factory is shutting down. As the Workers 
 leave the Factory for the last time, the situation escalates and before 
 anyone has a chance to think, they have accidentally occupied the Factory! 
 Parallel plights of American and Argentine Workers play out in this modern 
 tale of two factories, telenovelas, and tango. Live music half  hour before 
 the show. For tix: www.brownpapertix.com\n 
 https://www.indybay.org/newsitems/2010/06/04/18649861.php
SUMMARY:San Francisco Mime Troupe presents POSIBILIDAD, or Death of the Worker
LOCATION:Analy High School, Sebastopol
URL:https://www.indybay.org/newsitems/2010/06/04/18649861.php
DTSTART:20100920T020000Z
DTEND:20100920T033000Z
END:VEVENT
END:VCALENDAR
