BEGIN:VCALENDAR
VERSION:2.0
X-WR-CALNAME:www.indybay.org
PRODID:-//indybay/ical// v1.0//EN
BEGIN:VEVENT
UID:Indybay-18649544
SEQUENCE:18718670
CREATED:20100602T073800Z
DESCRIPTION:Roundtable discussion extolling the use of plants and chemicals from around 
 the world: how their use (and prohibition) have influenced cultures past, 
 present and future\n\nJune 12, 19 July 17, 24 \n\nLong Haul Infoshop (3124 
 Shattuck @ Woolsey Berkeley)\n 
 https://www.indybay.org/newsitems/2010/06/02/18649544.php
SUMMARY:East Bay Free Skool Class: Psychadelic and Entheogen Activism
LOCATION:The Long Haul (3124 Shattuck @ Wolsey) 
URL:https://www.indybay.org/newsitems/2010/06/02/18649544.php
DTSTART:20100724T203000Z
DTEND:20100724T220000Z
END:VEVENT
END:VCALENDAR
