BEGIN:VCALENDAR
VERSION:2.0
X-WR-CALNAME:www.indybay.org
PRODID:-//indybay/ical// v1.0//EN
BEGIN:VEVENT
UID:Indybay-18649251
SEQUENCE:18718327
CREATED:20100531T075100Z
DESCRIPTION:http://www.nytimes.com/2010/06/01/world/middleeast/01flotilla.html\n\nhttp://smpalestine.com/2010/05/30/flotilla-update-israel-attacks-convoy-deaths-reported/\n\nhttp://news.bbc.co.uk/2/hi/world/middle_east/10195838.stm\n\n\n\nHi 
 friends,\n\nBy now you may have heard the tragic and shocking news that 
 Israel will stop at nothing to protect its apartheid colonialism, and has 
 killed and injured human rights nonviolence activists aboard the flotilla 
 to Gaza. At this moment the number of murdered and injured keeps shifting 
 so rapidly that I am unable to give you an accurate count.\n\nMonday at 
 noon there will be a gathering at the Israeli Consulate in San Francisco, 
 with a march to Union Square, to protest this vicious attack by the Israeli 
 military, and to call upon the US government to hold Israel accountable.\n 
 \n(The Israeli Consulate is at 456 Montgomery Street, betw. California & 
 Sacramento, map, 5 blocks north of Market St and the Montgomery BART/Metro 
 Station, # 1 bus)\n\nPlease be there--and if someone has a bullhorn, please 
 bring it! And please spread this word widely to people who can come out at 
 noon on Monday (Memorial Day).\n\nThanks, and see you there . . .\n\nIn 
 shock and fury,\n\n__________\n 
 https://www.indybay.org/newsitems/2010/05/31/18649251.php
SUMMARY:Humanitarian Mission to Gaza Attacked: Protest at Israeli Counselate
LOCATION:(The Israeli Consulate is at 456 Montgomery Street, betw. California & 
 Sacramento, map, 5 blocks north of Market St and the Montgomery BART/Metro 
 Station, # 1 bus)
URL:https://www.indybay.org/newsitems/2010/05/31/18649251.php
DTSTART:20100531T190000Z
DTEND:20100531T220000Z
END:VEVENT
END:VCALENDAR
