BEGIN:VCALENDAR
VERSION:2.0
X-WR-CALNAME:www.indybay.org
PRODID:-//indybay/ical// v1.0//EN
BEGIN:VEVENT
UID:Indybay-18648156
SEQUENCE:18716620
CREATED:20100517T225000Z
DESCRIPTION:No Nukes? A Special Report from the United Nations Nuclear Nonproliferation 
 Treaty Conference\n\nJackie Cabasso, director of Western States Legal 
 Foundation and a leading expert on nuclear weapons, will be reporting back 
 from her participation in the United Nations Nuclear Non-Proliferation 
 Treaty Review Conference, which is taking place throughout the month of 
 May.\n https://www.indybay.org/newsitems/2010/05/17/18648156.php
SUMMARY:Other Voices: No Nukes? A Special Report.
LOCATION:Community Media Center\n900 San Antonio Road\nPalo Alto, CA, 94303\n
URL:https://www.indybay.org/newsitems/2010/05/17/18648156.php
DTSTART:20100602T020000Z
DTEND:20100602T030000Z
END:VEVENT
END:VCALENDAR
