BEGIN:VCALENDAR
VERSION:2.0
X-WR-CALNAME:www.indybay.org
PRODID:-//indybay/ical// v1.0//EN
BEGIN:VEVENT
UID:Indybay-18647870
SEQUENCE:18716173
CREATED:20100513T233900Z
DESCRIPTION:Mon: Have you been curious about temporary piercing play but didn't know 
 where to start? This workshop will cover where to find the materials to 
 start, safe play for piercer and piercee, proper preparation of the skin, 
 how to set up a clean and safe play area, and how to safely pierce flesh. 
 Each person who wants to experience temporary piercing and/or being pierced 
 will have the opportunity to do so. The workshop will be scaled to the size 
 and knowledge level of the group.  Tickets cost $20 and can be purchased 
 at: http://www.brownpapertickets.com/event/112342  \nTues: BEARINGS is a 
 piercing performance/installation by XRAY Aims using needles with the 
 physical and environmental envelopes to investigate orientation and it's 
 many meanings. Tickets cost $10 and can be purchased at: 
 http://www.brownpapertickets.com/event/112343\n\n 
 https://www.indybay.org/newsitems/2010/05/13/18647870.php
SUMMARY:XRAY’s Temporary Piercing @ Femina Potens
LOCATION:Femina Potens Art Gallery\n2199 Market St, San Francisco CA 94114
URL:https://www.indybay.org/newsitems/2010/05/13/18647870.php
DTSTART:20100629T010000Z
DTEND:20100629T030000Z
END:VEVENT
END:VCALENDAR
