BEGIN:VCALENDAR
VERSION:2.0
X-WR-CALNAME:www.indybay.org
PRODID:-//indybay/ical// v1.0//EN
BEGIN:VEVENT
UID:Indybay-18646271
SEQUENCE:18713945
CREATED:20100430T205000Z
DESCRIPTION:Revolution - What’s a Party got to do with it? This discussion group will 
 look at the role of a working-class political party in the struggles for a 
 just society and an end to capitalist war and oppression. The study 
 sessions take place on Tuesdays, May 18 and June 1, at 5:30pm in Room 
 374-A, Boalt Hall School of Law, UC Berkeley.\n\nWheelchair accessible.  
 Everyone welcome. Hosted by Freedom Socialist Party. For more information, 
 contact 415-864-1278 or bafsp@earthlink.net.  \n 
 https://www.indybay.org/newsitems/2010/04/30/18646271.php
SUMMARY:Revolution - What’s a Party got to do with it?
LOCATION:Room 374-A, Boalt Hall School of Law, UC Berkeley
URL:https://www.indybay.org/newsitems/2010/04/30/18646271.php
DTSTART:20100602T003000Z
DTEND:20100602T020000Z
END:VEVENT
END:VCALENDAR
