BEGIN:VCALENDAR
VERSION:2.0
X-WR-CALNAME:www.indybay.org
PRODID:-//indybay/ical// v1.0//EN
BEGIN:VEVENT
UID:Indybay-18644790
SEQUENCE:18711929
CREATED:20100415T191200Z
DESCRIPTION:There will be rally and press conference to protest the firing of 
 Hornblower/Alcatraz Tours maritime worker Vincent Altos\n\n4/19/2010 
 Rally/Press Conference To Protest Discriminatory Firing Of Alcatraz 
 Cruises/Hornblower\n\nDefend Worker's Rights!\n\nIn late 2009, Alcatraz 
 Cruises / Hornblower fired union activist Vincent\nAtos for allegedly 
 "acting too gay." Alcatraz Cruises / Hornblower\nclaims no wrong-doing anmd 
 has refused to give Vincent his job back.\nJoin leaders from the LGBTQ and 
 Labor communities to hold Alcatraz\nCruises / Hornblower accountable for 
 their actions and let them know\nthat discrimination and termination of 
 employment based on sexual\norientation and union organizing will not be 
 tolerated in San Francisco!\n\nSave the Date!\n\nRally and Press 
 Conference\n\nMonday, April 19, 2010 at 12 PM\nPier 33, The Embarcadero, 
 San Francisco\n\nAn Injury to One is an Injury to All!\n\nFor more 
 information, email josue.prideatwork(at)gmail.com\n 
 https://www.indybay.org/newsitems/2010/04/15/18644790.php
SUMMARY:Rally/Press Conference To Protest Discriminatory Firing Of Alcatraz Cruises
LOCATION:Pier 33, The Embarcadero, San Francisco
URL:https://www.indybay.org/newsitems/2010/04/15/18644790.php
DTSTART:20100419T190000Z
DTEND:20100419T210000Z
END:VEVENT
END:VCALENDAR
