BEGIN:VCALENDAR
VERSION:2.0
X-WR-CALNAME:www.indybay.org
PRODID:-//indybay/ical// v1.0//EN
BEGIN:VEVENT
UID:Indybay-18644539
SEQUENCE:18711504
CREATED:20100413T025300Z
DESCRIPTION:Want to have fun and support our community?  \n\nCome to a fundraiser 
 featuring West Oakland youth and world-renowned Brazilian drummers.      
 \n\nSat. April 17th   7-9PM     Drumming,   Dancing  and  Dinner\n\n@ 
 Historic Continental Club    12th & Campbell St.  \n\n $10 adults, $5 under 
 17 and free under 10 yrs.     $10 for dinner- Bar-B-Q Chicken & 
 sides.\n\nAll proceeds go to help Bumpitythump and Kaua Aloha perform at 
 the World Rhythm Festival in Seattle on April 24th.    These youth from 
 West Oakland have worked hard to earn an invitation to this year’s 
 festival, but they need help with travel expenses.   It's a long way from 
 7th & Peralta streets to Seattle, WA-  but we are determined to help them 
 get there. \n\nCan you support our youth by attending this performance?   
 If you can’t attend but would like to contribute please consider buying a 
 “donation” ticket.\n\nFor tickets:  
 www.brownpapertickets.com/events/105897\n\nCheck out:   
 http://www.youtube.com/watch?v=sTnGVCT3WQ4&feature=related \n\nPerformances 
 Include:\n\n            Grupo Samba Rio-   Samba music led by World 
 Renowned Musician-\n\n                                              Jorge 
 Alabe    http://www.jorgealabe.com/\n\n               Maracatu Luta - 
 Drumming from Northeastern Brazil  \n\n               Bumpitythump- West 
 African Drumming by youth of West Oakland  \n\n               Kaua Aloha-   
 Hula Dancing by youth of West Oakland \n                             \n\n  
 Tickets:  www.brownpapertickets.com/events/105897\n\n  Or call: 
 1.800.838.3006  (event #105897)   \n\n  For additional questions call 
 Kathy:  510.717.2938                                                    
 \n\n\n https://www.indybay.org/newsitems/2010/04/12/18644539.php
SUMMARY:Brazilian Drumming
LOCATION:At the Continental club in West Oakland at 12th and Campbell
URL:https://www.indybay.org/newsitems/2010/04/12/18644539.php
DTSTART:20100418T020000Z
DTEND:20100418T110000Z
END:VEVENT
END:VCALENDAR
