BEGIN:VCALENDAR
VERSION:2.0
X-WR-CALNAME:www.indybay.org
PRODID:-//indybay/ical// v1.0//EN
BEGIN:VEVENT
UID:Indybay-18644256
SEQUENCE:18711118
CREATED:20100410T184100Z
DESCRIPTION:Join G-dcast.com creator/producer Sarah Lefton for a discussion on how her 
 cartoon Torah commentaries (screening in the Museum) combine Jewish study 
 and a wry sensibility to appeal to a generation being educated online as 
 well as in the classroom.\n\nMade possible by a grant from the Covenant 
 Foundation.\n\nINFORMATION: info@thecjm.org,  415.655.7800, or 
 thecjm.org.\n\nADMISSION: FREE with regular admission. Admission is $5 
 after 5 PM.\n\n https://www.indybay.org/newsitems/2010/04/10/18644256.php
SUMMARY:Comics and Commentary: Animating Jewish education for the next generation
LOCATION:Contemporary Jewish Museum\n736 Mission Street (between Third and Fourth 
 streets)\nSan Francisco, CA 94103
URL:https://www.indybay.org/newsitems/2010/04/10/18644256.php
DTSTART:20100423T020000Z
DTEND:20100423T020000Z
END:VEVENT
END:VCALENDAR
