BEGIN:VCALENDAR
VERSION:2.0
X-WR-CALNAME:www.indybay.org
PRODID:-//indybay/ical// v1.0//EN
BEGIN:VEVENT
UID:Indybay-18643972
SEQUENCE:18710658
CREATED:20100407T202900Z
DESCRIPTION:MISSION STATEMENT:  \n\nDedicated to empower the individual to be able to 
 help themselves and others with their need for locally grown food through 
 providing knowledge and resources needed to be able to successfully grow 
 one's own food, buy locally grown food from a local farmer or store and/or 
 have it served to them at a restaurant.\n 
 https://www.indybay.org/newsitems/2010/04/07/18643972.php
SUMMARY:Sustainable Food & Gardening Festival
LOCATION:Finley Community Center\n2060 West College Ave, Santa Rosa
URL:https://www.indybay.org/newsitems/2010/04/07/18643972.php
DTSTART:20100424T190000Z
DTEND:20100425T000000Z
END:VEVENT
END:VCALENDAR
