BEGIN:VCALENDAR
VERSION:2.0
X-WR-CALNAME:www.indybay.org
PRODID:-//indybay/ical// v1.0//EN
BEGIN:VEVENT
UID:Indybay-18643818
SEQUENCE:18710438
CREATED:20100405T165100Z
DESCRIPTION:         Yes on Proposition 15….because elections should be won, not 
 bought!  The amount of money in politics is outrageous, and it I corrupting 
 the system. Since 2000, over $1 billion dollars has been raised by 
 California politicians. All this fundraising buys access for the special 
 interests, but it shuts out the rest of us. Learn about the California Fair 
 Elections Act on the June 8 ballot. Explore the ways in which Prop. 15 
 supports the tenets of faith-based communities in the political process. 
 Help develop the language necessary to make visible the connection between 
 all faiths and the justice of fair elections. Help educate our communities 
 on the moral imperative to get politicians out of the fundraising game. \n  
        This first ever Interfaith Prop 15 Volunteer Training will provide 
 information about Proposition 15, while grounding the discussion in faith 
 community values. The orientation will be led by Nancy Neff of the UU 
 Legislative Ministry/Reclaiming Democracy Team. \n\nRSVP:  
 cross0828@yahoo.com\nFor more events visit: 
 www.yesonprop15.org/events\n\nOpen to the Public. Wheelchair 
 accessible.\nWorkshop is free. Donations welcome to support this and future 
 classes.\n\nFor occasional email notices of peace/eco/social justice alerts 
 and related events at BFUU, send any email 
 to:\nbfuusjev-subscribe@lists.riseup.net\n\nFor weekly notices of BFUU 
 services etc. go to:\nwww.bfuu.org/signup.html\n\n 
 https://www.indybay.org/newsitems/2010/04/05/18643818.php
SUMMARY:Interfaith Volunteer Training Yes on Prop 15
LOCATION:Berkeley Fellowship of Unitarian Universalists’ Hall \n1924 Cedar 
 (@Bonita), Berkeley   www.bfuu.org\n
URL:https://www.indybay.org/newsitems/2010/04/05/18643818.php
DTSTART:20100411T213000Z
DTEND:20100412T003000Z
END:VEVENT
END:VCALENDAR
