BEGIN:VCALENDAR
VERSION:2.0
X-WR-CALNAME:www.indybay.org
PRODID:-//indybay/ical// v1.0//EN
BEGIN:VEVENT
UID:Indybay-18643333
SEQUENCE:18709762
CREATED:20100330T221100Z
DESCRIPTION:An introduction to truth-in-recruiting work in schools in the bay area, for 
 teachers, students, veterans, activists, mothers, fathers, grandmothers, 
 and grandfathers.  You will become familiar with the resources and 
 materials for classrooms and tabling about the realities of military 
 service, aggressive military recruitment, and alternatives for youth.  FOR 
 MORE INFO:  S_SOMMER@SBCGLOBAL.NET\nIntroduction to doing Truth in 
 Recruitment work in schools\n9:15am -12:00pm\nFocused training for veterans 
 and classroom presenters\n1:00pm -3:30pm\nFREE, donations accepted, bring 
 bag lunch if planning to attend all day.\n 
 https://www.indybay.org/newsitems/2010/03/30/18643333.php
SUMMARY:Counter recruitment in schools: training
LOCATION:War Memorial Veteran's Building\n401 Van Ness Ave., \nNear Civic Center 
 BART
URL:https://www.indybay.org/newsitems/2010/03/30/18643333.php
DTSTART:20100417T160000Z
DTEND:20100417T220000Z
END:VEVENT
END:VCALENDAR
