BEGIN:VCALENDAR
VERSION:2.0
X-WR-CALNAME:www.indybay.org
PRODID:-//indybay/ical// v1.0//EN
BEGIN:VEVENT
UID:Indybay-18643175
SEQUENCE:18709533
CREATED:20100329T001300Z
DESCRIPTION:Performed only once before, Evolution Control Committee's radically 
 eclectic soundscape for FW Murnau's horror classic Nosferatu is a 
 meticulous mix of soundtracks from other movies (how "Other Cinema" can you 
 get?)! Iconic/ironic snippets from the classic tracks of The Sound of 
 Music, Jaws, Dr. No, Star Wars, and dozens of others are DJ'd live from 
 turntable, transmuted through Trademark G's magical sleight-of-hand into an 
 uncannily appropriate unified soundtrack! PLUS: Copyright Criminals, a new 
 doc by Kembrew McLeod and Ben Franzen, examines the creative and commercial 
 value of musical sampling, including the ongoing debates about artistic 
 expression and copyright law. Showcased are many of Hip Hop's legendary 
 figures, like Public Enemy, De La Soul, George Clinton, Digital 
 Underground, DJ Spooky, Eclectic Method, and Mark Hosler (of Negativland). 
 PLUS an assemblage of Negativland's own audio-visual citations. NOTE: Early 
 doors at 7:45, CC at 8, ECC at 9. *$7. \n 
 https://www.indybay.org/newsitems/2010/03/28/18643175.php
SUMMARY:REMIX MASTERS
LOCATION:ATA Gallery, 992 Valencia St @ 21st St, Mission District
URL:https://www.indybay.org/newsitems/2010/03/28/18643175.php
DTSTART:20100404T030000Z
DTEND:20100404T053000Z
END:VEVENT
END:VCALENDAR
