BEGIN:VCALENDAR
VERSION:2.0
X-WR-CALNAME:www.indybay.org
PRODID:-//indybay/ical// v1.0//EN
BEGIN:VEVENT
UID:Indybay-18643021
SEQUENCE:18709322
CREATED:20100326T235300Z
DESCRIPTION:put up by http://digitaldaq.deviantart.com/gallery/\n\nfor more outside bay 
 area\n\nhttp://www.facebook.com/profile.php?ref=profile&id=100000031433391\n\nhttp://twitter.com/davidaquinley\n\nmostly 
 bay area info\n\n\n\n 
 https://www.indybay.org/newsitems/2010/03/26/18643021.php
SUMMARY:Marin Community Peace Exchange> 1st Presbyterian Church of San Anselmo
LOCATION: 10:00 AM to 1:00 PM\nMarin Community Peace Exchange\n(formerly "Culture of 
 Peace Brigade")\nFourth Meeting\nWorking together to demonstrate that peace 
 is personal, practical and possible. Representatives of various Marin Peace 
 organizations (MP&JC, World Without Wars, PeaceNovato, Peace Alliance, 
 local U.S. Dept. of Peace Campaign, International Forgiveness Movement, any 
 others who care to come) sharing their personal stories and finding support 
 for themselves and their organizations' current projects.\nThe location, 
 this month only, is the First Presbyterian Church of San Anselmo, 72 
 Kensington Rd., San Anselmo. http://www.mpjc.org/
URL:https://www.indybay.org/newsitems/2010/03/26/18643021.php
DTSTART:20100327T170000Z
DTEND:20100327T200000Z
END:VEVENT
END:VCALENDAR
