BEGIN:VCALENDAR
VERSION:2.0
X-WR-CALNAME:www.indybay.org
PRODID:-//indybay/ical// v1.0//EN
BEGIN:VEVENT
UID:Indybay-18642586
SEQUENCE:18708685
CREATED:20100322T221100Z
DESCRIPTION:Free outdoor performance 2:30, artist talk 3:00pm.  UPRISING #27 will be a 
 free, public performance as part of the 5-year UPRISING series of public 
 demonstrations of revolutionary practices dedicated to a better future. 
 www.nicolegarneau.com\n 
 https://www.indybay.org/newsitems/2010/03/22/18642586.php
SUMMARY:UPRISING #27 PERFORMANCE
LOCATION:The Nave (Campus of California College of the Arts), 1111 8th Street in in 
 San Francisco. 
URL:https://www.indybay.org/newsitems/2010/03/22/18642586.php
DTSTART:20100325T213000Z
DTEND:20100325T220000Z
END:VEVENT
END:VCALENDAR
