BEGIN:VCALENDAR
VERSION:2.0
X-WR-CALNAME:www.indybay.org
PRODID:-//indybay/ical// v1.0//EN
BEGIN:VEVENT
UID:Indybay-18642388
SEQUENCE:18708443
CREATED:20100321T185400Z
DESCRIPTION:Please join us for this special event at the beautiful, renowned Brower 
 Center in Berkeley. \n\nThe program features:\n\n* John Robbins and his son 
 Ocean deliver an inspiring keynote presentation on "the Wisdom of 
 Partnership." John is the bestselling author of Diet for a New America; 
 Ocean is the founder of Youth for Environmental Sanity (YES).\n\n* Four 
 Years. Go., an ambitious new collaborative network uniting over 400 
 organizations; presented by Mark Dubois of the Pachamama Alliance. \n\n* 
 The official launch of the Sustainable World SourceBook and the Pay It 
 Forward campaign; presented by Vinit Allen.\n\nThe evening opens with a 
 reception from 7-8 pm, featuring appetizers and wine, live music by 
 Shambhu, and plenty of time for networking before (and after) the program, 
 which is 8-9:30 pm.\n\nThe entrance contribution of $15 includes a copy of 
 the Sustainable World SourceBook. All tickets at the door 
 only.\n\nCo-sponsored by Integrative Spirituality.\n 
 https://www.indybay.org/newsitems/2010/03/21/18642388.php
SUMMARY:Earth Day Eve 2010--Creating a Healthy Future
LOCATION:The Brower Center\n2150 Allston Way\nBerkeley, CA 
 94704\n510-809-0900\nhttp://www.browercenter.org
URL:https://www.indybay.org/newsitems/2010/03/21/18642388.php
DTSTART:20100422T020000Z
DTEND:20100422T050000Z
END:VEVENT
END:VCALENDAR
