BEGIN:VCALENDAR
VERSION:2.0
X-WR-CALNAME:www.indybay.org
PRODID:-//indybay/ical// v1.0//EN
BEGIN:VEVENT
UID:Indybay-18641514
SEQUENCE:18707326
CREATED:20100317T093800Z
DESCRIPTION:THIS FRIDAY IN OAKLAND:\nDancing, Singing, Honky Tonk!\nSpoken Word, 
 Comedy, AND\n\nThe B.L.O. (Brass Liberation Orchestra)\n\nOakland 100 
 Support Committee presents an indomitable, one of a kind opportunity for 
 you to shake, throw, scream, dance, act, hiccup, recite with what your mama 
 gave you:\n\nCOMMUNITY TALENT SHOW\nA safe stage for any body willing to 
 show off what they can do. Please email ebps@riseup.net with your name or 
 group’s name and estimated performance time. So far the bill has an 
 exciting group of nonconformists, but we need MORE ACTS! Be Brave Be Proud. 
 Lets show off our communities!\n\nTHIS EVENING WILL BE A BENEFIT FOR those 
 who are or up until recently facing charges for the protests following the 
 Oscar Grant Rebellions. They need your help so come out and enjoy the show. 
 Exquisite Dress Required.\nNon-Participants $5-20 sliding scale 
 donation.\nMore info: http://supporttheoakland100.wordpress.com/\n\n 
 https://www.indybay.org/newsitems/2010/03/17/18641514.php
SUMMARY:Talent Show Benefit Featuring the B.L.O.
LOCATION:Eastside Cultural Center\n2277 International Blvd.\nOakland, CA
URL:https://www.indybay.org/newsitems/2010/03/17/18641514.php
DTSTART:20100320T020000Z
DTEND:20100320T050000Z
END:VEVENT
END:VCALENDAR
