BEGIN:VCALENDAR
VERSION:2.0
X-WR-CALNAME:www.indybay.org
PRODID:-//indybay/ical// v1.0//EN
BEGIN:VEVENT
UID:Indybay-18641280
SEQUENCE:18707078
CREATED:20100316T035300Z
DESCRIPTION:The Critical Animal Studies Film and Artist Lecture Series is a student 
 organized event at California College of the Arts. This event is open to 
 the public. \n\nSunaura Taylor\nMarch 25th 2010 \n7-10 PM\nNahl Hall, 
 Oakland campus\n5212 Broadway (at College Ave)\n\nVasile Stanescu\nFeat. 
 film Earthlings\nMarch 30th 2010 \n7-10 PM\nTimken Hall, San Francisco 
 campus\n1111 8th Street\n\n* refreshments will be served\n\nWHO ARE THE 
 SPEAKERS?\n\nSunaura Taylor is an artist, writer and activist disabled from 
 U.S military pollution, a legacy that has affected all aspects of her work, 
 which focuses on human-animal relationships. She graduated from the 
 University of California, Berkeley in the department of Art Practice with 
 her MFA. \n\nVasile Stanescu is a PhD student and writer at Stanford in the 
 Modern Thought and Literature program focusing on the image of the animal 
 through the lens of post-colonial critical theory and food 
 politics.\n\nMission Statement:\nTo examine our relationship to non-human 
 animals through food, consumer alternatives, speakers, discussion, and the 
 celebration of cruelty-free culture. How do the foods we eat and the 
 products we buy effect non-human animals? What is Speciesism and how does 
 it relate to Racism or Sexism? How can we promote a healthy environment for 
 both human and non-human animals? \n\nIf you want to make the world is a 
 better place for animals, then please join us for the Critical Animal 
 Studies Film and Artist Lecture Series!\n\n 
 https://www.indybay.org/newsitems/2010/03/15/18641280.php
SUMMARY:Critical Animal Studies Film Screening and Speaker
LOCATION:California College of the Arts - Timken Lecture Hall\n1111 8th St.\nSan 
 Francisco, Ca
URL:https://www.indybay.org/newsitems/2010/03/15/18641280.php
DTSTART:20100331T020000Z
DTEND:20100331T050000Z
END:VEVENT
END:VCALENDAR
