BEGIN:VCALENDAR
VERSION:2.0
X-WR-CALNAME:www.indybay.org
PRODID:-//indybay/ical// v1.0//EN
BEGIN:VEVENT
UID:Indybay-18641223
SEQUENCE:18707021
CREATED:20100316T000400Z
DESCRIPTION:Be a part of the 2010 - 30th Anniversary - Uhuru Pies holiday fundraiser. 
 Get involved now! We need everyone to make this a successful 
 fundraiser.\n\nUhuru Pies is a fundraising program of the African People's 
 Education and Defense Fund that began in 1981 in Oakland, California. 
 \n\nDuring the month of November, 2010, individuals, organizations and 
 businesses take part in the Bay Area's biggest bake sale. Funds from this 
 fundraiser support economic development programs of the African Village 
 Survival Initiative. \n\nStarting in March, we are talking to as many 
 people as we can about how you can participate in this campaign. \n\nWe 
 need community organizers, bakers, graphic artists and socially conscious 
 volunteers to be a part of this effort, NOW!\nAttend the Launch Meeting on 
 March 28. \n\nCan't attend on March 28? Write to us and get involved 
 virtually or in the future.\n 
 https://www.indybay.org/newsitems/2010/03/15/18641223.php
SUMMARY:Thanksgiving in March
LOCATION:Backroom at World Ground Café\n3726 MacArthur Blvd.\nOakland, CA 94619
URL:https://www.indybay.org/newsitems/2010/03/15/18641223.php
DTSTART:20100328T170000Z
DTEND:20100328T190000Z
END:VEVENT
END:VCALENDAR
