BEGIN:VCALENDAR
VERSION:2.0
X-WR-CALNAME:www.indybay.org
PRODID:-//indybay/ical// v1.0//EN
BEGIN:VEVENT
UID:Indybay-18640969
SEQUENCE:18706717
CREATED:20100314T215000Z
DESCRIPTION:THE LAY ORGANIZATION OF ST.  PAUL AME CHURCH WILL HOST A COMMUNITY FORUM 
 AND UP-DATE ON HAITI, SUNDAY, MARCH 28TH, 2010 FROM 1:00 TO 2:00 PM WITH 
 LATANYA WILLIAMS OF SEED FELLOWSHIP CHURCH AND PIERRE LABOSSIERE OF THE 
 HAITIAN EMERGENCY RELIEF FUND.   \n\nA VIDEO WILL ACCOMPANY THE TALK.  THE 
 EVENT IS WHEELCHAIR ACCESSIBLE, AND THERE IS NO CHARGE \nFOR 
 ADMISSION.\n\nFOR MORE INFORMATION, CALL (510) 848-2050 or (510) 409-6123.  
          THANK YOU.\n\n\n 
 https://www.indybay.org/newsitems/2010/03/14/18640969.php
SUMMARY:FORUM HAITI
LOCATION:SUNDAY, MARCH 28TH, 2010 FROM 1:00 TO 2:00 PM\nST.  PAUL AME CHURCH  - 2024 
 Ashby Avenue (across from Ashby BART Station), Berkeley
URL:https://www.indybay.org/newsitems/2010/03/14/18640969.php
DTSTART:20100328T200000Z
DTEND:20100328T210000Z
END:VEVENT
END:VCALENDAR
