BEGIN:VCALENDAR
VERSION:2.0
X-WR-CALNAME:www.indybay.org
PRODID:-//indybay/ical// v1.0//EN
BEGIN:VEVENT
UID:Indybay-18640347
SEQUENCE:18705821
CREATED:20100309T062800Z
DESCRIPTION:Francios Zemay sustained serious injuries after a fall from the 880 
 overpass. His family is going to need help with bills, so please come out 
 and support. He's an avid free skool learner and all around amazing 
 person.\n\nSunday March 21\n3-6p\nBook Zoo (Telegraph @ Alcatraz) 
 \n\nFeaturing the musical stylings of:\n\nFor Fear the Hearts of Men are 
 Failing \nRobbie Wobbles\nZachary \nShareef Ali and the Radical Folksonomy 
 \nand guests \n\n\n 
 https://www.indybay.org/newsitems/2010/03/08/18640347.php
SUMMARY:Benefit for Francios Zemay
LOCATION:Book Zoo (6935 Telegraph @ Alcatraz) 
URL:https://www.indybay.org/newsitems/2010/03/08/18640347.php
DTSTART:20100321T220000Z
DTEND:20100322T010000Z
END:VEVENT
END:VCALENDAR
