BEGIN:VCALENDAR
VERSION:2.0
X-WR-CALNAME:www.indybay.org
PRODID:-//indybay/ical// v1.0//EN
BEGIN:VEVENT
UID:Indybay-18640170
SEQUENCE:18705555
CREATED:20100308T021900Z
DESCRIPTION:In the spirit of Anarchist Pride Month, Station 40 is hosting a series of 
 anti-authoritarian movie nights. Every Thursday. For the month of March. 
 Free.\n________________________________________________________________\nThursday 
 March 11th:\n"PICKAXE" [1999].\n 
 https://www.indybay.org/newsitems/2010/03/07/18640170.php
SUMMARY:Anarchist Movie Night Series.
LOCATION:Station 40\n3030-B 16th Street\nSan Francisco, CA.
URL:https://www.indybay.org/newsitems/2010/03/07/18640170.php
DTSTART:20100312T060000Z
DTEND:20100312T080000Z
END:VEVENT
END:VCALENDAR
