BEGIN:VCALENDAR
VERSION:2.0
X-WR-CALNAME:www.indybay.org
PRODID:-//indybay/ical// v1.0//EN
BEGIN:VEVENT
UID:Indybay-18640091
SEQUENCE:18705459
CREATED:20100307T065900Z
DESCRIPTION:Historic fearlessYOGA Teacher Training (fYTT)| April 2 - 28, 
 2010Residential Intensive Certification ProgramApplication Deadline: March 
 19, 2010 | Extensive Work Exchange & Scholarships AvailablefearlessYOGA is 
 the first and only yoga approach ever designed for activists, allies, and 
 agents of social change and this is the first teacher training offered on 
 fearlessYOGA.fearlessYOGA is Yoga Built for Justice"Developed and 
 instructed in a social justice framework that relates how we engage on the 
 mat to how we behave in the world, the practice is returned to its rightful 
 place as a personal practice for inner-life development, liberated from the 
 mainstream, thus ownable by agents of social change."-- angel Kyodo 
 williams, Founder, Center for Transformative ChangeUnique highlights and 
 perspectives of the fYTT curriculum:		* Technique: fearlessMeditation: 
 practice of the body		* Teaching Methodology: Social Justice "From 
 Oppression to Liberation" & "Paradigms of Freedom"		* Philosophy: 
 Introduction to Sanskrit		* Teaching Methodology: "Language of Freedom" 
 Communication		* Philosophy: "Returning to Source: Yoga Sutras of 
 Patañjali Study"	* Anatomy & Physiology: "Every Body DIfferent Body: The 
 Structure of Limits"	* Lifestyle: Eating & WellnessfearlessYOGA has been 
 developed as a yoga practice specifically oriented towards activists. The 
 precise language and approach of the "Effort & Release" teaching framework 
 directly corresponds with the seminal yogic text, the Yoga-Sutras. The 
 method illuminates the habit-patterns of aggression and over-doing by 
 introducing postures in incremental levels of engagement. Alternatively, it 
 encourages activists to learn to "back off" of over-reaching in exchange 
 for discovering one's own internal pace and alignment.The fearlessYOGA 
 Teacher Training is a certification program that empowers the 
 student-practitioner with both certification as a fearlessYoga Teacher 
 (C-fYT) while also meeting the minimum requirements to become a Yoga 
 Alliance Registered Yoga Teacher at the 200-hour level (RYT200).We welcome 
 you to live, learn, and transform here, while immersing yourself in a 
 residential, yogic lifestyle. fYTT has been designed in ways that will 
 cultivate your ability to thrive in your personal and professional life and 
 graduate as a unique fearlessYoga teacher, with a well-developed connection 
 to a deep source of inspiration--and the ability to guide others into 
 theirs.More information: http://transformativechange.org/fytt/The fearless 
 School of YOGA is a Yoga Alliance registered school. (RYS No. 48583. Newly 
 registered.)  
 http://www.yogaalliance.org/________________________________________________________Center 
 for Transformative Changetransformative programs & practices for agents of 
 social change 2584 Martin Luther King Jr WayBerkeley, CA 94704t: (510) 
 549-FREE (3733)http://transformativechange.org"...changing the WAY change 
 is done..."Center for Transformative Change is the first national center 
 entirely dedicated to bridging the inner and outer lives of social change 
 agents, activists and allies to support a more effective, more sustainable 
 social justice movement.\n\n 
 https://www.indybay.org/newsitems/2010/03/06/18640091.php
SUMMARY:Historic fearlessYOGA Teacher Training | April 2 - 28
LOCATION:Center for Transformative Change\n2584 Martin Luther King Jr Way\nBerkeley, 
 CA 94704
URL:https://www.indybay.org/newsitems/2010/03/06/18640091.php
DTSTART:20100402T130000Z
DTEND:20100403T010000Z
END:VEVENT
END:VCALENDAR
