BEGIN:VCALENDAR
VERSION:2.0
X-WR-CALNAME:www.indybay.org
PRODID:-//indybay/ical// v1.0//EN
BEGIN:VEVENT
UID:Indybay-18640062
SEQUENCE:18707290
CREATED:20100307T022300Z
DESCRIPTION:On March 18 the Appreciating Diversity Film Series (Sponsored by the 
 Piedmont Appreciating Diversity Committee, Piedmont League of Women Voters 
 and Diversityworks) will screen SPEAKING IN TONGUES, a wonderful film about 
 bilingual programs in Bay Area schools. It's 2009's San Francisco 
 International Film Festival Audience Award winner! Save the date, so that 
 you can come!\n\nAs ever, it's FREE!\n\nWhen: Thursday, March 18, 2010\n    
   Doors Open: 6:30 PM (Free refreshments)\n      Screening: 7 PM\n      
 Discussion: 8-9 PM\n\nWhere: Wildwood Elementary School Auditorium, 301 
 Wildwood Avenue, Piedmont 94611\n\nPatchWorks Films Presents...\n\n"Lively, 
 smart & timely film about the new globalized world"\n-Graham Leggat, 
 Executive Director, San Francisco Film Society\n\nWhat would it be like if 
 your parents put you in a school where the teacher spoke a foreign 
 language?  \n\nSpeaking in Tongues uses this scenario to explore the 
 provocative notion that being bilingual can be a national asset. Taking us 
 beyond rote arguments and stereotypes, this intimate film witnesses the 
 joys and challenges of four diverse children on their journey to become 
 global citizens. Enter their world and ask, today, is knowing one language 
 enough?\n \nYou'll be charmed and challenged by 2009's San Francisco 
 International Film Festival Audience Award winner.\n\nPraise for Speaking 
 in Tongues\n  \n"An illuminating lens into the increasingly relevant topic 
 of multilingualism in a globalized world."\n-NorthWest Film Forum\n\n"A 
 story about human aspirations and how language divides and combines 
 ....really moving."\n-John Wranovics, Author, Agee and Chaplin\n  \n"Speaks 
 directly to one of the important issues facing our diverse 
 society."\n-Laurie Olsen, Executive Director, California Tomorrow\n 
 https://www.indybay.org/newsitems/2010/03/06/18640062.php
SUMMARY:free documentary film screening in Piedmont: 'Speaking in Tongues'
LOCATION:Wildwood School\n301 Wildwood Ave\nPiedmont, CA 94611\n\n
URL:https://www.indybay.org/newsitems/2010/03/06/18640062.php
DTSTART:20100319T020000Z
DTEND:20100319T040000Z
END:VEVENT
END:VCALENDAR
