BEGIN:VCALENDAR
VERSION:2.0
X-WR-CALNAME:www.indybay.org
PRODID:-//indybay/ical// v1.0//EN
BEGIN:VEVENT
UID:Indybay-18639932
SEQUENCE:18705193
CREATED:20100306T020900Z
DESCRIPTION:Sex Positive Discussion Group\n\nhosted by Amy\n\ntbamy@yahoo.com\n\nThis 
 is a discussion group for all ages, genders, sexualities and experience 
 levels (...everyone) about what sex positivity means to us and how we can 
 understand and create free and healthy sexualities.\n\nNabolom Bakery 2708 
 Russell St. @ College, Berkeley\n\nSundays 8pm\n\nThis week's topic: 
 Orgasms!\n https://www.indybay.org/newsitems/2010/03/05/18639932.php
SUMMARY:East Bay Free Skool: Sex Positive Discussion Group
LOCATION:Nabolom Bakery 2708 Russell St. @ College, Berkeley 
URL:https://www.indybay.org/newsitems/2010/03/05/18639932.php
DTSTART:20100308T040000Z
DTEND:20100308T060000Z
END:VEVENT
END:VCALENDAR
