BEGIN:VCALENDAR
VERSION:2.0
X-WR-CALNAME:www.indybay.org
PRODID:-//indybay/ical// v1.0//EN
BEGIN:VEVENT
UID:Indybay-18639615
SEQUENCE:18704678
CREATED:20100305T000500Z
DESCRIPTION:Drinks in Common, the Henry George Historical Society's occasional 
 gathering of landlovers (environmentalists) and elbow-benders (social 
 drinkers), is pleased to announce our next get-together, Tuesday, March 16, 
 \n\n6:30 pm at \n\nSchroeder's restaurant\n\n240 Front Street (near 
 California St.)\n\nOur featured guest is \n\nPeter Brastow\n\nDirector of 
 \n\nNATURE IN THE CITY\n\nhttp://www.natureinthecity.org\n\nPeter heads up 
 one of San Francisco's most engaging environmental organizations. NATURE IN 
 THE CITY seeks to maintain and restore the natural flora, fauna and 
 geography of our city.\n\nCome hear Peter speak of THE COMMONS, meet other 
 environmentalists, and renew your spirit in working for your environmental 
 and social cause.\n\nRemarks at 7 pm\n\nSomeone will win a $10 drink 
 certificate for our next gathering!\n\n\n 
 https://www.indybay.org/newsitems/2010/03/04/18639615.php
SUMMARY:Drinks in Common
LOCATION:Schroeder's German Restaurant\n240 Front St.  (Financial District)\nSan 
 Francisco
URL:https://www.indybay.org/newsitems/2010/03/04/18639615.php
DTSTART:20100317T020000Z
DTEND:20100317T040000Z
END:VEVENT
END:VCALENDAR
