BEGIN:VCALENDAR
VERSION:2.0
X-WR-CALNAME:www.indybay.org
PRODID:-//indybay/ical// v1.0//EN
BEGIN:VEVENT
UID:Indybay-18639229
SEQUENCE:18704260
CREATED:20100302T062800Z
DESCRIPTION:Guided lessons in writing and illustrating comics, bring your ideas or come 
 to find inspiration! Work in groups and get personal one on one attention! 
 \n\nLonghaul Infoshop 3124 Shattuck at Woolsey, Berkeley \n\nSaturdays 
 3-4pm \n\n https://www.indybay.org/newsitems/2010/03/01/18639229.php
SUMMARY:East Bay Free Skool Class: Radical Comics
LOCATION:The Long Haul (3124 Shattuck @ Woolsey) 
URL:https://www.indybay.org/newsitems/2010/03/01/18639229.php
DTSTART:20100320T220000Z
DTEND:20100320T230000Z
END:VEVENT
END:VCALENDAR
