BEGIN:VCALENDAR
VERSION:2.0
X-WR-CALNAME:www.indybay.org
PRODID:-//indybay/ical// v1.0//EN
BEGIN:VEVENT
UID:Indybay-18639075
SEQUENCE:18703933
CREATED:20100228T231600Z
DESCRIPTION:The UnClear Cabaret / Phatima's Birthday party \nat Station 40 3030 B 16th 
 Street @ Mission \n\nWell we all get Older no matter what we do... So this 
 Unclear Cabaret is all about getting older and Death ...Two things that We 
 all have in common and their is No escaping... I will be turning 44 so why 
 not have a show all about it with some of my Favorite people, Vinsantos 
 (SF) and Michelle Blades (PHX) and the Lowered Expectations Drag cast of 
 many ....\n\nAs a new tradition of the show Bring a CD and you too can Be 
 in the show..for Realz\n\nBenefiting Station 40 5$ bucks ( But No one 
 turned away for lack of Funds )\nand as always Free Vegan cake ...\nByob 
 \n\nhttp://www.myspace.com/vinsantos\nhttp://www.myspace.com/michelleblades\nBy 
 the way NO gifts Please ...Just Bring your selves \n\n 
 https://www.indybay.org/newsitems/2010/02/28/18639075.php
SUMMARY:The Unclear Cabaret/ Phatima's Birthday party
LOCATION:Station 40 at 3030 B 16th Street @ Mission street  SF CA 94103
URL:https://www.indybay.org/newsitems/2010/02/28/18639075.php
DTSTART:20100331T020000Z
DTEND:20100331T050000Z
END:VEVENT
END:VCALENDAR
