BEGIN:VCALENDAR
VERSION:2.0
X-WR-CALNAME:www.indybay.org
PRODID:-//indybay/ical// v1.0//EN
BEGIN:VEVENT
UID:Indybay-18638481
SEQUENCE:18703025
CREATED:20100223T044300Z
DESCRIPTION:KPFA may be listener-sponsored, but who controls it?Coverage of important 
 LOCAL issues on KPFA is pathetic, if not nonexistent. With the notable 
 exception of Flashpoints programmer Dennis Bernstein, they ignored the 
 historic UC Berkeley Memorial Oak Grove tree-sit, and now they play dumb 
 while the irradiated remains from the Bevatron nuclear particle accelerator 
 are being hauled thru the streets of "Nuclear-Free" Berkeley, passing just 
 half a block away from their studio doors!It's 1999 all over again. So join 
 us in letting KraPFA know of your outrage over this outrage. That's @ the 
 KPFA studio building on Wednesday, Feb. 24th, starting @ 10 AM and carrying 
 on through the day!\n 
 https://www.indybay.org/newsitems/2010/02/22/18638481.php
SUMMARY:KPFA = Local, Community-based Media - NOT!
LOCATION:The KPFA studio building, @ 1929 Martin Luther King Blvd., Berkeley, CA, 
 just north of University Ave.
URL:https://www.indybay.org/newsitems/2010/02/22/18638481.php
DTSTART:20100224T180000Z
DTEND:20100225T020000Z
END:VEVENT
END:VCALENDAR
