BEGIN:VCALENDAR
VERSION:2.0
X-WR-CALNAME:www.indybay.org
PRODID:-//indybay/ical// v1.0//EN
BEGIN:VEVENT
UID:Indybay-18638464
SEQUENCE:18702990
CREATED:20100223T021300Z
DESCRIPTION:Andy Couturier will show slides and discuss his new book about people 
 living simple, sustainable, extraordinary lives in rural Japan. A Different 
 Kind of Luxury conveys the texture of the lives of farmers, artists, 
 philosophers and craftspeople who've made the transition to a slower, more 
 satisfying life of reduced consumption and increased satisfaction with a 
 deeper connection to the natural world. The talk will also touch on the 
 intentional choices these people have made in their lives.\n 
 https://www.indybay.org/newsitems/2010/02/22/18638464.php
SUMMARY:A Different Kind of Luxury: Japanese Lessons in Simple Living
LOCATION:Ecology Center, 2530 San Pablo Ave, near Dwight Way, Berkeley.
URL:https://www.indybay.org/newsitems/2010/02/22/18638464.php
DTSTART:20100319T020000Z
DTEND:20100319T040000Z
END:VEVENT
END:VCALENDAR
