BEGIN:VCALENDAR
VERSION:2.0
X-WR-CALNAME:www.indybay.org
PRODID:-//indybay/ical// v1.0//EN
BEGIN:VEVENT
UID:Indybay-18638153
SEQUENCE:18702590
CREATED:20100219T165100Z
DESCRIPTION:Former Black Panther, Gerald Sanders, will be guest speaking at the Napa 
 Valley College on February 24 at 11am in room 838. Gerald Sanders will be 
 speaking on:\n\n-The History of the Black Panthers \n-The past and current 
 need for black liberation \n- The role of the student movement and SDS\n- 
 The current situation\n- Q and A\n\nThis will be an enlightening and 
 invigorating event. It is rare that Napa Valley Campus a hub for liberation 
 and radical thought. Spread the word!\n 
 https://www.indybay.org/newsitems/2010/02/19/18638153.php
SUMMARY:Former Black Panther Speaks Out at Napa Valley College
LOCATION:Date: Wednesday, February 24, 2010 \n\nTime: 11:00am - 12:30pm 
 \n\nLocation: Napa Valley College \n\nStreet: 2277 Napa-Vallejo hwy\n 
 \nCity/Town: Napa, CA \n
URL:https://www.indybay.org/newsitems/2010/02/19/18638153.php
DTSTART:20100224T190000Z
DTEND:20100224T203000Z
END:VEVENT
END:VCALENDAR
