BEGIN:VCALENDAR
VERSION:2.0
X-WR-CALNAME:www.indybay.org
PRODID:-//indybay/ical// v1.0//EN
BEGIN:VEVENT
UID:Indybay-18638102
SEQUENCE:18702609
CREATED:20100218T203400Z
DESCRIPTION:The first week of March is looking like its going to be crazy. With an 
 action assembly on the first and a statewide student strike called for the 
 4th it’s going to be popping.\n\nLet’s kick it off with a night of 
 mayhem and debauchery.\n\nOUT OF CONTROL DANCE PARTY\nPorter Quad\n9pm – 
 ?\n https://www.indybay.org/newsitems/2010/02/18/18638102.php
SUMMARY:out of control dance party
LOCATION:Porter Quad, UCSC Campus
URL:https://www.indybay.org/newsitems/2010/02/18/18638102.php
DTSTART:20100227T050000Z
DTEND:20100227T110000Z
END:VEVENT
END:VCALENDAR
