BEGIN:VCALENDAR
VERSION:2.0
X-WR-CALNAME:www.indybay.org
PRODID:-//indybay/ical// v1.0//EN
BEGIN:VEVENT
UID:Indybay-18637588
SEQUENCE:18701795
CREATED:20100212T094800Z
DESCRIPTION:Astronomy regarding a book by Ernest Sternglass Before the Big Bang and 
 other stuff...Which many mainstream astronomers are not aware of. And 
 astrology regarding the connection between Greek letters and zodiac signs I 
 noticed years ago, which is not in any books. \n\nThe Nomad Cafe 6500 
 Shattuck Ave. Oakland \n\nbetween Ashby and Alcatraz \n\nTuesdays in 
 February 6pm \n\n\n 
 https://www.indybay.org/newsitems/2010/02/12/18637588.php
SUMMARY:East Bay Free Skool Class: Asronomy and Astrology
LOCATION:Nomad Cafe (6500 Shattuck @ Alcatraz) 
URL:https://www.indybay.org/newsitems/2010/02/12/18637588.php
DTSTART:20100217T020000Z
DTEND:20100217T030000Z
END:VEVENT
END:VCALENDAR
