BEGIN:VCALENDAR
VERSION:2.0
X-WR-CALNAME:www.indybay.org
PRODID:-//indybay/ical// v1.0//EN
BEGIN:VEVENT
UID:Indybay-18637585
SEQUENCE:18701793
CREATED:20100212T094000Z
DESCRIPTION:Come hang out with the cool kids and help organize the free skool. Discuss 
 classes, design and print the next calendar and plan a party in March! 
 \n\nLong Haul Infoshop, 3124 Shattuck @ Woolsey Berkeley \n\nMondays 7:30P 
 \n\n\n https://www.indybay.org/newsitems/2010/02/12/18637585.php
SUMMARY:East Bay Free Skool Planning Meeting
LOCATION:Long Haul (3124 Shattuck @ Woolsey) 
URL:https://www.indybay.org/newsitems/2010/02/12/18637585.php
DTSTART:20100223T033000Z
DTEND:20100223T043000Z
END:VEVENT
END:VCALENDAR
