BEGIN:VCALENDAR
VERSION:2.0
X-WR-CALNAME:www.indybay.org
PRODID:-//indybay/ical// v1.0//EN
BEGIN:VEVENT
UID:Indybay-18637574
SEQUENCE:18701787
CREATED:20100212T091700Z
DESCRIPTION:A fun/laidback participatory class about the world of jazz as you may not 
 know it through an emphasis on its rich history, and the links of which we 
 explore today through the medium of the experimental/fundamental paths of a 
 rich diaspora. Will include concert films, docs, and of course, lots of 
 jazz. A special interest will be given to artists who might not be 
 considered jazz musicians (i.e. Bjork, Dirty Projectors, etc.) \n\n1438 
 10th St.at Center, Oakland \n\nFebruary 14th and 28th 11A-1P \n\nMarch 14th 
 and 28th 11A-1P \n\n\n 
 https://www.indybay.org/newsitems/2010/02/12/18637574.php
SUMMARY:East Bay Free Skool Class: Jazz History
LOCATION:1438 10th St.at Center, Oakland
URL:https://www.indybay.org/newsitems/2010/02/12/18637574.php
DTSTART:20100214T190000Z
DTEND:20100214T210000Z
END:VEVENT
END:VCALENDAR
