BEGIN:VCALENDAR
VERSION:2.0
X-WR-CALNAME:www.indybay.org
PRODID:-//indybay/ical// v1.0//EN
BEGIN:VEVENT
UID:Indybay-18637396
SEQUENCE:18701380
CREATED:20100210T053500Z
DESCRIPTION:\n\nGAY SHAME is a Virus in the System. We are committed to a queer 
 extravaganza that brings direct action to astounding levels of 
 theatricality. We will not be satisfied with a commercialized gay identity 
 that denies the intrinsic links between queer struggle and challenging 
 power. We seek nothing less than a new queer activism that foregrounds 
 race, class, gender and sexuality, to counter the self-serving “values” 
 of gay consumerism and the increasingly hypocritical left. We are dedicated 
 to fighting the rabid assimilationist monster with a devastating 
 mobilization of queer brilliance.\n\nGAY SHAME is a celebration of 
 resistance: All Are Welcome.\n\n 
 https://www.indybay.org/newsitems/2010/02/09/18637396.php
SUMMARY:GAY SHAME MEETING
LOCATION:888 VALENCIA STREET\nMODERN TIMES BOOKSTORE \nin the tede mathews reading 
 room, at the back of the store
URL:https://www.indybay.org/newsitems/2010/02/09/18637396.php
DTSTART:20100221T013000Z
DTEND:20100221T033000Z
END:VEVENT
END:VCALENDAR
