BEGIN:VCALENDAR
VERSION:2.0
X-WR-CALNAME:www.indybay.org
PRODID:-//indybay/ical// v1.0//EN
BEGIN:VEVENT
UID:Indybay-18637161
SEQUENCE:18700960
CREATED:20100206T202200Z
DESCRIPTION:Free Admission, Free Food, DJ Paul (spinning soul, funk, reggae, breaks and 
 house) and surf flicks projected on a large screen. \n\nSurfpulse.com will 
 be hosting a raffle for a 5'10" no nose quad bio-foam surfboard from Las 
 Olas Surfboards. There will be other great raffle prizes provided by 
 Timbuk2, Red Vic Movie House, Java Beach cafe, The Pizza Place on Noriega 
 and other cool local businesses.\n\nSierra Nevada will donate $1 for every 
 pint of their beer sold at the party. A percentage of the bar will be 
 donated and Jeff (the Wet Wednesday bartender) will donate all of his share 
 of the tips.  \n\nThis benefit will help Bryant Elementary pay its share of 
 the costs to keep the Experience Corp tutoring program at their school. 
 Experience Corps brings adults older than 55 into classrooms across the 
 nation to mentor and tutor children in urban public schools. Bryant 
 Elementary School is an innovative public school in the heart of San 
 Francisco's Mission District. \n\nFor more info on Experience Corps or to 
 volunteer see http://www.experiencecorps.org \n\n 
 https://www.indybay.org/newsitems/2010/02/06/18637161.php
SUMMARY:Wet Wednesday Benefit for Bryant Elementary School and Experience Corp
LOCATION:The Riptide Cocktails  3639 Taraval St. @ 47th Avenue\nThe L Taraval takes 
 you right there and runs all night.
URL:https://www.indybay.org/newsitems/2010/02/06/18637161.php
DTSTART:20100225T040000Z
DTEND:20100225T100000Z
END:VEVENT
END:VCALENDAR
