BEGIN:VCALENDAR
VERSION:2.0
X-WR-CALNAME:www.indybay.org
PRODID:-//indybay/ical// v1.0//EN
BEGIN:VEVENT
UID:Indybay-18637123
SEQUENCE:18700897
CREATED:20100206T070800Z
DESCRIPTION:Annual fundraiser to benefit Fresno's Saturday Food Not Bombs 
 Group\n\n2/19/2010 6:30 PM at Full Circle Brewery\n620 F Street, Fresno, 
 California 93720\n\n\nCost: $10 or donation\n\nOnce again Blake Jones and 
 the Trike Shop come bearing guitars, harmonies and even a theremin to 
 support Food Not Bombs. This time, they will be joined by the 
 folk/electronica talents of Shovelman---who’s bringing his shovelguitar 
 and his extreme insights all the way from San Francisco. Show up at 6:30 
 for the delicious vegetarian dinner that comes with the price of the show, 
 and know that every penny you spend goes to the good cause of feeding 
 people who need it.\n\nTell your friends!! \n 
 https://www.indybay.org/newsitems/2010/02/05/18637123.php
SUMMARY:Food Not Bombs Fundraiser
LOCATION:Full Circle Brewery\n620 F Street\nFresno, CA 93720
URL:https://www.indybay.org/newsitems/2010/02/05/18637123.php
DTSTART:20100220T023000Z
DTEND:20100220T063000Z
END:VEVENT
END:VCALENDAR
