BEGIN:VCALENDAR
VERSION:2.0
X-WR-CALNAME:www.indybay.org
PRODID:-//indybay/ical// v1.0//EN
BEGIN:VEVENT
UID:Indybay-18637069
SEQUENCE:18700838
CREATED:20100205T184700Z
DESCRIPTION:How do you see yourself, when you can't see at all? At the Texas School for 
 the Blind students juggle all the usual pressures of high school along with 
 the added struggles of growing up blind. Spend a dynamic year with four 
 blind teens learning how to fit in and live independently. Forced to 
 confront the world without sight, they share their inner-visions of the 
 outer world. Ultimately, you cannot understand their perceptions without 
 challenging your own.\n\nwww.pbs.org/independentlens/eyes-of-me\n\nFilm is 
 1 hour.  The film is closed captioned.  Audio description equipment is 
 available.  Please email sara_smith@itvs.org to request audio 
 description.\n\nThere will be a post-screening discussion.\n\n 
 https://www.indybay.org/newsitems/2010/02/05/18637069.php
SUMMARY:The Eyes of Me
LOCATION:Oakland Asian Cultural Center\n388 Ninth Street, Second Floor\nOakland, CA
URL:https://www.indybay.org/newsitems/2010/02/05/18637069.php
DTSTART:20100225T023000Z
DTEND:20100225T043000Z
END:VEVENT
END:VCALENDAR
