BEGIN:VCALENDAR
VERSION:2.0
X-WR-CALNAME:www.indybay.org
PRODID:-//indybay/ical// v1.0//EN
BEGIN:VEVENT
UID:Indybay-18636784
SEQUENCE:18700365
CREATED:20100202T074100Z
DESCRIPTION:AN EVENING WITH WILLIE WEIR\nPresented by Willie Weir\n\nCall him cheap, 
 frugal, a tightwad or an initiator  of kindness, Willie Weir knows how to 
 get the most bang for his bucks when it comes to traveling the world -- 
 whether it's giving the world's cheapest engagement ring, protesting an 
 insanely over-priced fish dinner, knocking on doors for free lodging or 
 eating his way to free ice cream.  We like to call him generous, as he's 
 set up his February 19th appearance as a benefit for Walk Oakland Bike 
 Oakland.\n\nThis evening Willie will bring to life tales from his latest 
 book "Travels with Willie" that will have you chuckling and leave you 
 wanting to chuck your day job and hit the road.  Bicycling magazine says, 
 "Travels with Willie is one of the rare bike books that gets it 
 right."\n\nWillie Weir is a columnist for "Adventure Cyclist" magazine and 
 a cycling commentator for public radio station KUOW in Seattle.  His 
 bicycle travels have taken him around the globe -- including such 'off the 
 tourist path' destinations as India, South Africa, Bosnia, Laos and 
 Colombia.  Each year he speaks to thousands of students and adults, 
 inspiring new adventurers and advocates.  For more information about Willie 
 Weir, visit:\nwww.willieweir.com\n\nWheelchair accessible around the corner 
 at  411  28th  Street\n\n$5 donations are accepted\n\nDETAILS:\n\nThis 
 evening with Willie Weir is a Benefit for Walk Oakland Bike Oakland 
 (WOBO).\nTickets: $5 WOBO members, $10 non-members.\nSpecial $25 annual 
 WOBO membership (including event ticket) will be available at the 
 door.\nThe book Travels with Willie will be available for purchase for $15 
 (cash only).  All ticket revenue and a portion of book sales will benefit 
 WOBO.\n\nQuestions?  Want to volunteer?  Email 
 shannon@walkoaklandbikeoakland.org or call 510-338-2937.\n\nWalk Oakland 
 Bike Oakland is working to improve neighborhood quality of life by making 
 walking and bicycling in Oakland safe, easy, accessible, and fun.  Learn 
 more at: www.walkoaklandbikeoakland.org.\n\n\n 
 https://www.indybay.org/newsitems/2010/02/01/18636784.php
SUMMARY:An Evening with Willie Weir
LOCATION:Humanist Hall\n390  27th  Street\nmidtown Oakland, between Telegraph and 
 Broadway\nhttp://www.HumanistHall.org 
URL:https://www.indybay.org/newsitems/2010/02/01/18636784.php
DTSTART:20100220T030000Z
DTEND:20100220T050000Z
END:VEVENT
END:VCALENDAR
