BEGIN:VCALENDAR
VERSION:2.0
X-WR-CALNAME:www.indybay.org
PRODID:-//indybay/ical// v1.0//EN
BEGIN:VEVENT
UID:Indybay-18636603
SEQUENCE:18700120
CREATED:20100130T141800Z
DESCRIPTION:Community Discussion on Haiti and building the Africa's Resources in 
 African Hands Solidarity Action Network!\n\nVideo presentation of the 
 history of Haiti from the Uhuru Movement for African liberation.\n\nThe 
 conditions in Haiti are the same faced by African people everywhere. \n\nIf 
 we truly want to be a part of transforming the conditions, we must join 
 Africa's Resources in African Hands, supporting the unity of African people 
 everywhere to regain control of Africa!\n\nSponsored by the Uhuru 
 Solidarity Movement, an activist organization under the leadership of the 
 Uhuru Movement.\n\nwww.uhurunews.com\n\n\n\n 
 https://www.indybay.org/newsitems/2010/01/30/18636603.php
SUMMARY:Solidarity with Haiti: The Devastation Began More Than 200 Years Ago!
LOCATION:Niebyl Proctor Marxist Library, 6501 Telegraph Ave, Oakland
URL:https://www.indybay.org/newsitems/2010/01/30/18636603.php
DTSTART:20100203T030000Z
DTEND:20100203T050000Z
END:VEVENT
END:VCALENDAR
