BEGIN:VCALENDAR
VERSION:2.0
X-WR-CALNAME:www.indybay.org
PRODID:-//indybay/ical// v1.0//EN
BEGIN:VEVENT
UID:Indybay-18636593
SEQUENCE:18700097
CREATED:20100130T044800Z
DESCRIPTION:10 sheppard way - off tresstle glen - off tiborn blv. \n 
 https://www.indybay.org/newsitems/2010/01/29/18636593.php
SUMMARY:changed in location- tiburon for Chera Van Burg's"Call of Life"Doc. what she's calling the
LOCATION:sorry about that - just put up the info i had - I COULDN'T GO BECAUSE IT 
 WAS MOVED TO TIBURON AND I TAKE TH E BUS , or sounds like IJ fucked up 
URL:https://www.indybay.org/newsitems/2010/01/29/18636593.php
DTSTART:20100130T050000Z
DTEND:20100130T060000Z
END:VEVENT
END:VCALENDAR
