BEGIN:VCALENDAR
VERSION:2.0
X-WR-CALNAME:www.indybay.org
PRODID:-//indybay/ical// v1.0//EN
BEGIN:VEVENT
UID:Indybay-18636517
SEQUENCE:18699962
CREATED:20100129T114500Z
DESCRIPTION:San Francisco Anarchists (www.sanfranciscoanarchists.org) launches TASER 
 THURSDAY, a weekly effort to educate San Franciscans about the 
 dangerousness of tasers (over 190 Amerikans executed without a trial) and 
 their hidden purpose and use (coerced confessions) in the police state.\n 
 https://www.indybay.org/newsitems/2010/01/29/18636517.php
SUMMARY:TASER THURSDAY
LOCATION:Polk Street steps, San Francisco City Hall, Polk @ McAllister, San 
 Francisco
URL:https://www.indybay.org/newsitems/2010/01/29/18636517.php
DTSTART:20100204T180000Z
DTEND:20100204T220000Z
END:VEVENT
END:VCALENDAR
